BEGIN:VCALENDAR
VERSION:2.0
PRODID:-//wp-events-plugin.com//7.1.7//EN
BEGIN:VEVENT
UID:8326@powiat.poznan.pl
DTSTART:20240912T090000Z
DTEND:20240912T120000Z
DTSTAMP:20240904T115947Z
URL:https://powiat.poznan.pl/events/europejskie-dni-dziedzictwa/
SUMMARY:Europejskie Dni Dziedzictwa
DESCRIPTION:Europejskie Dni Dziedzictwa\nW ramach 32. edycji Europejskich D
 ni Dziedzictwa\, gościem Instytutu Skrzynki będzie dr Jerzy Łojko\, his
 toryk i regionalista. W wykładzie pt. „Kolorowa przeszłość na europe
 jskich szlakach. Polacy w średniowiecznych herbarzach europejskich” prz
 edstawi on m. in. zawartość herbarzy\, które zawierają rysunki polskic
 h herbów rycerskich. Wydarzenie zaplanowano na 12 września w godz. 10.00
 -13.00. Wstęp wolny\n\nEuropejskie Dni Dziedzictwa (EDD) to inicjatywa Ra
 dy Europy i Unii Europejskiej\, ustanowiona w 1991 r. Jest to cykliczny pr
 ojekt kulturalny\, społeczny i edukacyjny o wyjątkowej skali i zasięgu.
  Tegoroczne Europejskie Dni Dziedzictwa odbędą się pod hasłem Szlaki. 
 Sieci. Połączenia\, które w bezpośredni sposób nawiązuje do projektu
  Szlaków Kulturowych Rady Europy\, zainicjowanego w 1987 r. Głównym cel
 em Europejskich Dni Dziedzictwa jest edukacja historyczna i kulturalna\, p
 romowanie różnorodności regionalnego dziedzictwa kulturowego\, podkreś
 lenie wspólnych korzeni kultury europejskiej oraz propagowanie dialogu mi
 ędzykulturowego.\n\nInstytut Skrzynki\, będący samorządową instytucj
 ą kultury prowadzi Centrum Dziedzictwa Kulturowego i Kulinarnego Powiatu 
 Poznańskiego\, które jest ośrodkiem badań i dokumentacji dziedzictwa k
 ulturowego powiatu poznańskiego. Tym bardziej włączamy się w obchody t
 egorocznych Europejskich Dni Dziedzictwa i  serdecznie zapraszamy na wyda
 rzenie do Dworu Skrzynki. Koordynatorem EDD jest Narodowy Instytut Dziedzi
 ctwa. Partnerem wydarzenia w Skrzynkach jest Archiwum Państwowe w Poznani
 u. EDD 2024 medialnym patronatem objęło Polskie Radio.\n\nPrzygotował: 
 Instytut Skrzynki\n\n
ATTACH;FMTTYPE=image/jpeg:https://powiat.poznan.pl/wp-content/uploads/2024
 /09/plakat-edd-skrzynki-1.jpg
CATEGORIES:Warsztaty
LOCATION:Dwór Skrzynki\, Plac Parkowy 1\, Skrzynki\, gm. Stęszew\, 62-060
 \, Poland
GEO:52.342096;16.606405
X-APPLE-STRUCTURED-LOCATION;VALUE=URI;X-ADDRESS=Plac Parkowy 1\, Skrzynki\,
  gm. Stęszew\, 62-060\, Poland;X-APPLE-RADIUS=100;X-TITLE=Dwór Skrzynki:
 geo:52.342096,16.606405
END:VEVENT
END:VCALENDAR