BEGIN:VCALENDAR
VERSION:2.0
PRODID:-//wp-events-plugin.com//7.1.7//EN
BEGIN:VEVENT
UID:8438@powiat.poznan.pl
DTSTART:20241026T170000Z
DTEND:20241026T170000Z
DTSTAMP:20241001T105129Z
URL:https://powiat.poznan.pl/events/ewa-blachnio-apokalipsy-nie-bedzie/
SUMMARY:Ewa Błachnio. Apokalipsy nie będzie…
DESCRIPTION:Ewa Błachnio. Apokalipsy nie będzie…\nWięcej informacji na
  suchylas.pl\n\n
ATTACH;FMTTYPE=image/jpeg:https://powiat.poznan.pl/wp-content/uploads/2024
 /10/ewa-blachnio_plakat.jpg
CATEGORIES:Rozrywka
LOCATION:Centrum Kultury i Biblioteka Publiczna Gminy Suchy Las\, ul. Szkol
 na 16\, Suchy Las\, 62-002\, Poland
GEO:52.562464;16.798811900000032
X-APPLE-STRUCTURED-LOCATION;VALUE=URI;X-ADDRESS=ul. Szkolna 16\, Suchy Las\
 , 62-002\, Poland;X-APPLE-RADIUS=100;X-TITLE=Centrum Kultury i Biblioteka 
 Publiczna Gminy Suchy Las:geo:52.562464,16.798811900000032
END:VEVENT
END:VCALENDAR