BEGIN:VCALENDAR
VERSION:2.0
PRODID:-//wp-events-plugin.com//7.1.7//EN
BEGIN:VEVENT
UID:9610@powiat.poznan.pl
DTSTART:20260216T090000Z
DTEND:20260223T160000Z
DTSTAMP:20260204T111547Z
URL:https://powiat.poznan.pl/events/ferie-w-bibliotece-w-dobiezynie/
SUMMARY:Ferie w bibliotece w Dobieżynie
DESCRIPTION:Filia Biblioteczna w Dobieżynie serdecznie zaprasza na ferie z
 imowe w Bibliotece. Zapisy pod Nr. Tel. 61 102 59 00.\n\n
ATTACH;FMTTYPE=image/jpeg:https://powiat.poznan.pl/wp-content/uploads/2026
 /02/b4.jpg
CATEGORIES:Dla dzieci,Rozrywka,Społeczne,Warsztaty
LOCATION:Filia Biblioteczna w Dobieżynie\, ul. Powstańców Wielkopolskich
  47\, Dobieżyn\, Polska\, Poland
GEO:52.325121;16.538154
X-APPLE-STRUCTURED-LOCATION;VALUE=URI;X-ADDRESS=ul. Powstańców Wielkopols
 kich 47\, Dobieżyn\, Polska\, Poland;X-APPLE-RADIUS=100;X-TITLE=Filia Bib
 lioteczna w Dobieżynie:geo:52.325121,16.538154
END:VEVENT
END:VCALENDAR