BEGIN:VCALENDAR
VERSION:2.0
PRODID:-//wp-events-plugin.com//7.1.7//EN
BEGIN:VEVENT
UID:9604@powiat.poznan.pl
DTSTART:20260216T070000Z
DTEND:20260220T150000Z
DTSTAMP:20260204T103248Z
URL:https://powiat.poznan.pl/events/ferie-w-miejsko-gminnym-osrodku-kultur
 y-w-buku/
SUMMARY:Ferie w Miejsko-Gminnym Ośrodku Kultury w Buku
DESCRIPTION:Miejsko-Gminny Ośrodek Kultury zaprasza dzieci na ferie zimowe
 .\n\nTURNUS I: 16-20 luty 2026r. „Światy ulubionych bohaterów”\nTURN
 US II: 23-27 luty 2026r. „Odkrywamy swoje moce”.\n\n\n\n&nbsp\;
ATTACH;FMTTYPE=image/jpeg:https://powiat.poznan.pl/wp-content/uploads/2026
 /02/b2.jpg
CATEGORIES:Dla dzieci,Edukacja,Rozrywka,Społeczne
LOCATION:Buk\, buk\, buk\, Poland
GEO:52.35536;16.519559
X-APPLE-STRUCTURED-LOCATION;VALUE=URI;X-ADDRESS=buk\, buk\, Poland;X-APPLE-
 RADIUS=100;X-TITLE=Buk:geo:52.35536,16.519559
END:VEVENT
END:VCALENDAR