BEGIN:VCALENDAR
VERSION:2.0
PRODID:-//wp-events-plugin.com//7.1.7//EN
BEGIN:VEVENT
UID:4656@powiat.poznan.pl
DTSTART:20200127T080000Z
DTEND:20200207T140000Z
DTSTAMP:20200109T134635Z
URL:https://powiat.poznan.pl/events/ferie-w-puszczykowie-2/
SUMMARY:Ferie w Puszczykowie
DESCRIPTION:Ferie w Puszczykowie
ATTACH;FMTTYPE=image/jpeg:https://powiat.poznan.pl/wp-content/uploads/2020
 /01/ferie_w_puszczykowie.jpg
CATEGORIES:Dla dzieci
LOCATION:Puszczykowo\, Puszczykowo\, Puszczykowo\, Poland
GEO:52.2866049;16.849486899999988
X-APPLE-STRUCTURED-LOCATION;VALUE=URI;X-ADDRESS=Puszczykowo\, Puszczykowo\,
  Poland;X-APPLE-RADIUS=100;X-TITLE=Puszczykowo:geo:52.2866049,16.849486899
 999988
END:VEVENT
END:VCALENDAR