BEGIN:VCALENDAR
VERSION:2.0
PRODID:-//wp-events-plugin.com//7.1.7//EN
BEGIN:VEVENT
UID:4646@powiat.poznan.pl
DTSTART:20200127T093000Z
DTEND:20200209T123000Z
DTSTAMP:20200109T115325Z
URL:https://powiat.poznan.pl/events/ferie-z-osir-buk-2/
SUMMARY:Ferie z OSiR Buk
DESCRIPTION:Ferie z OSiR Buk\n
ATTACH;FMTTYPE=image/jpeg:https://powiat.poznan.pl/wp-content/uploads/2020
 /01/81300342_2720980757937386_5677170102080897024_n.jpg
CATEGORIES:Dla dzieci
LOCATION:Ośrodek Sportu i Rekreacji w Buku\, ul. Szarych Szeregów 10\, Bu
 k\, Poland
GEO:52.354974;16.52231299999994
X-APPLE-STRUCTURED-LOCATION;VALUE=URI;X-ADDRESS=ul. Szarych Szeregów 10\, 
 Buk\, Poland;X-APPLE-RADIUS=100;X-TITLE=Ośrodek Sportu i Rekreacji w Buku
 :geo:52.354974,16.52231299999994
END:VEVENT
END:VCALENDAR