BEGIN:VCALENDAR
VERSION:2.0
PRODID:-//wp-events-plugin.com//7.1.7//EN
BEGIN:VEVENT
UID:9601@powiat.poznan.pl
DTSTART:20260217T090000Z
DTEND:20260220T140000Z
DTSTAMP:20260204T101749Z
URL:https://powiat.poznan.pl/events/ferie-z-plastyka-w-gminie-suchy-las/
SUMMARY:Ferie z plastyką w gminie Suchy Las
DESCRIPTION:W pierwszym tygodniu ferii przygotowaliśmy trzy propozycje za
 jęć dla miłośników twórczego spędzania wolnego czasu. Dla dzieci 
 – zabawa i swobodna ekspresja\, dla młodzieży – to\, co lubią najba
 rdziej: rozwijanie umiejętności rysunkowych. Zapisy w siedzibie Stare
 go Baru oraz telefonicznie: 61 250 04 30. Szczegóły na FERIE Z PLASTYK
 Ą • Centrum Kultury i Biblioteka Publiczna Suchy Las\n\n17.02.2026 (wto
 rek)\n10.00–11.00Zabawa plastyczna dla najmłodszych (6–9 lat):Włócz
 kowe przeplatanki w zimowych barwach.\n11.00–13.00Jak tworzyć przestrze
 ń na płaszczyźnie – ćwiczenia rysunkowe dla dzieci i młodzieży (10
 –16 lat)\, część I.\n\n18.02.2026 (środa)\n10.00–11.00Zabawa plas
 tyczna dla najmłodszych (6–9 lat):Eksperymentowanie z kolorami – barw
 y podstawowe i pochodne. Tworzymy\, mieszamy\, chlapiemy i rozlewamy\, a w
  efekcie powstają piękne obrazy.\n11.00–13.00Jak tworzyć przestrzeń 
 na płaszczyźnie – ćwiczenia rysunkowe dla dzieci i młodzieży (10–
 16 lat)\, część II.\n\n20.02.2026 (piątek)\n10.00–11.00Zabawa plast
 yczna dla najmłodszych (6–9 lat):Abstrakcje malowane bez farby.\n11.00
 –13.00Jak tworzyć przestrzeń na płaszczyźnie – ćwiczenia rysunkow
 e dla dzieci i młodzieży (10–16 lat)\, część III.\n
ATTACH;FMTTYPE=image/jpeg:https://powiat.poznan.pl/wp-content/uploads/2026
 /02/sl.png
CATEGORIES:Dla dzieci,Kultura i sztuka,Rozrywka,Społeczne,Warsztaty
LOCATION:Suchy Las\, Suchy Las\, Suchy Las\, 62-002\, Poland
GEO:52.4753307;16.878987400000028
X-APPLE-STRUCTURED-LOCATION;VALUE=URI;X-ADDRESS=Suchy Las\, Suchy Las\, 62-
 002\, Poland;X-APPLE-RADIUS=100;X-TITLE=Suchy Las:geo:52.4753307,16.878987
 400000028
END:VEVENT
END:VCALENDAR