BEGIN:VCALENDAR
VERSION:2.0
PRODID:-//wp-events-plugin.com//7.1.7//EN
BEGIN:VEVENT
UID:4698@powiat.poznan.pl
DTSTART:20200127T070000Z
DTEND:20200207T150000Z
DTSTAMP:20200115T121427Z
URL:https://powiat.poznan.pl/events/ferie-zimowe-w-suchy-lesie/
SUMMARY:Ferie zimowe w Suchy Lesie
DESCRIPTION:Ferie zimowe w Suchy Lesie
ATTACH;FMTTYPE=image/jpeg:https://powiat.poznan.pl/wp-content/uploads/2020
 /01/slider_1200x460-1024x393.png
CATEGORIES:Dla dzieci
LOCATION:Centrum Kultury i Biblioteka Publiczna Gminy Suchy Las\, ul. Szkol
 na 16\, Suchy Las\, 62-002\, Poland
GEO:52.562464;16.798811900000032
X-APPLE-STRUCTURED-LOCATION;VALUE=URI;X-ADDRESS=ul. Szkolna 16\, Suchy Las\
 , 62-002\, Poland;X-APPLE-RADIUS=100;X-TITLE=Centrum Kultury i Biblioteka 
 Publiczna Gminy Suchy Las:geo:52.562464,16.798811900000032
END:VEVENT
END:VCALENDAR