BEGIN:VCALENDAR
VERSION:2.0
PRODID:-//wp-events-plugin.com//7.1.7//EN
BEGIN:VEVENT
UID:9616@powiat.poznan.pl
DTSTART:20260219T093000Z
DTEND:20260219T110000Z
DTSTAMP:20260204T120331Z
URL:https://powiat.poznan.pl/events/ferie-zimowe-z-kinem-wielkopolanin-w-b
 uku/
SUMMARY:Ferie zimowe z Kinem Wielkopolanin w Buku
DESCRIPTION:Ferie zimowe z Kinem Wielkopolanin w Buku.\n\n
ATTACH;FMTTYPE=image/jpeg:https://powiat.poznan.pl/wp-content/uploads/2026
 /02/b7.jpg
CATEGORIES:Dla dzieci,Rozrywka,Społeczne
LOCATION:Kino Wielkopolanin w Buku\, plac Reszki 30\, Buk\, Poland
GEO:52.357459;16.519471899999985
X-APPLE-STRUCTURED-LOCATION;VALUE=URI;X-ADDRESS=plac Reszki 30\, Buk\, Pola
 nd;X-APPLE-RADIUS=100;X-TITLE=Kino Wielkopolanin w Buku:geo:52.357459,16.5
 19471899999985
END:VEVENT
END:VCALENDAR