BEGIN:VCALENDAR
VERSION:2.0
PRODID:-//wp-events-plugin.com//7.1.7//EN
BEGIN:VEVENT
UID:8271@powiat.poznan.pl
DTSTART:20240921T230000Z
DTEND:20240926T230000Z
DTSTAMP:20240813T103918Z
URL:https://powiat.poznan.pl/events/festiwal-filmow-odpowiedzialnych/
SUMMARY:Festiwal Filmów Odpowiedzialnych
DESCRIPTION:Festiwal Filmów Odpowiedzialnych\nWięcej informacji na 17celo
 w.pl\n\nGala Finałowa odbędzie się 27 września 2024 r. w Kinie Rialto 
 w Poznaniu.\n\n
ATTACH;FMTTYPE=image/jpeg:https://powiat.poznan.pl/wp-content/uploads/2024
 /08/festiwal-filmow-odpowiedzialnych_plakat_pop.png
CATEGORIES:Kultura i sztuka
LOCATION:Kino Rialto\, ul. Jana Henryka Dąbrowskiego 38\, Poznań\, wielko
 polskie\, Poland
GEO:52.411906;16.906695
X-APPLE-STRUCTURED-LOCATION;VALUE=URI;X-ADDRESS=ul. Jana Henryka Dąbrowski
 ego 38\, Poznań\, wielkopolskie\, Poland;X-APPLE-RADIUS=100;X-TITLE=Kino 
 Rialto:geo:52.411906,16.906695
END:VEVENT
END:VCALENDAR