BEGIN:VCALENDAR
VERSION:2.0
PRODID:-//wp-events-plugin.com//7.1.7//EN
BEGIN:VEVENT
UID:8282@powiat.poznan.pl
DTSTART:20240921T080000Z
DTEND:20240921T160000Z
DTSTAMP:20240826T073544Z
URL:https://powiat.poznan.pl/events/festiwal-konferencja-i-warsztaty/
SUMMARY:Festiwal\, konferencja i warsztaty
DESCRIPTION:Ogólnopolski Festiwal Chóralny Pieśni Patriotycznej\nOgólno
 polska Konferencja i Warsztaty Muzyczne dla nauczycieli\n
ATTACH;FMTTYPE=image/jpeg:https://powiat.poznan.pl/wp-content/uploads/2024
 /08/plakat-aktualny_warsztaty-muzyczne-scaled.jpg
CATEGORIES:Kultura i sztuka
LOCATION:Zespół Szkół Przyrodniczych w Poznaniu\, ul. Golęcińska 9\, 
 Poznań\, Poland
GEO:52.431965;16.882715
X-APPLE-STRUCTURED-LOCATION;VALUE=URI;X-ADDRESS=ul. Golęcińska 9\, Pozna
 ń\, Poland;X-APPLE-RADIUS=100;X-TITLE=Zespół Szkół Przyrodniczych w P
 oznaniu:geo:52.431965,16.882715
END:VEVENT
END:VCALENDAR