BEGIN:VCALENDAR
VERSION:2.0
PRODID:-//wp-events-plugin.com//7.1.7//EN
BEGIN:VEVENT
UID:8214@powiat.poznan.pl
DTSTART:20240727T110000Z
DTEND:20240728T110000Z
DTSTAMP:20240726T112558Z
URL:https://powiat.poznan.pl/events/festiwal-kulinarny-w-kostrzynie/
SUMMARY:Festiwal Kulinarny w Kostrzynie
DESCRIPTION:Festiwal Kulinarny w Kostrzynie\nW sobotę\, 27 lipca na Placu 
 Kurdeszowym w Kostrzynie rozpocznie się IV Festiwal Kulinarny\, który ot
 worzy Festiwal Smaków Food Trucków oraz prezentacje Kół Gospodyń Wiej
 skich! – Oprócz Festiwalu czeka na Was mnóstwo atrakcji – warsztaty 
 z Katarzyną Bosacką\, Festiwal Kolorów Holi\, koncerty oraz kino plener
 owe… W niedzielę ponownie zapraszamy na Festiwal Smaków Food Trucków\
 , a także warsztaty kreatywne\, gry wielkoformatowe\, koncerty i spektakl
  teatralny w wykonaniu Teatru na Walizkach. Ponadto w oba dni: konkursy z 
 nagrodami\, dmuchany plac zabaw dla dzieci. To będzie kulinarna i muzyczn
 a uczta! – zapewniają organizatorzy. Program na plakacie.\n\n
ATTACH;FMTTYPE=image/jpeg:https://powiat.poznan.pl/wp-content/uploads/2024
 /07/451237079_894984742656281_4106667007981462550_n.jpg
CATEGORIES:Rozrywka
LOCATION:Plac Kurdeszowy\, ul. Plac Kurdeszowy\, Kostrzyn Wielkopolski\, wi
 elkopolskie\, Poland
GEO:52.397423;17.232726
X-APPLE-STRUCTURED-LOCATION;VALUE=URI;X-ADDRESS=ul. Plac Kurdeszowy\, Kostr
 zyn Wielkopolski\, wielkopolskie\, Poland;X-APPLE-RADIUS=100;X-TITLE=Plac 
 Kurdeszowy:geo:52.397423,17.232726
END:VEVENT
END:VCALENDAR