BEGIN:VCALENDAR
VERSION:2.0
PRODID:-//wp-events-plugin.com//7.1.7//EN
BEGIN:VEVENT
UID:9201@powiat.poznan.pl
DTSTART:20250628T150000Z
DTEND:20250628T190000Z
DTSTAMP:20250623T111344Z
URL:https://powiat.poznan.pl/events/festiwal-kwiatow-w-leczycy/
SUMMARY:Festiwal kwiatów w Łęczycy
DESCRIPTION:Dom Kultury "Nad Wirynką" w Łęczycy\, ul. Poznańska 14\, Ł
 ęczyca\n\n\n\n&nbsp\;
ATTACH;FMTTYPE=image/jpeg:https://powiat.poznan.pl/wp-content/uploads/2025
 /06/k2.jpg
CATEGORIES:Rozrywka,Społeczne
LOCATION:Dom Kultury w Łęczycy\, Łęczyca\, Łęczyca\, wielkopolskie\, 
 Poland
GEO:52.3107278;16.88881649999996
X-APPLE-STRUCTURED-LOCATION;VALUE=URI;X-ADDRESS=Łęczyca\, Łęczyca\, wie
 lkopolskie\, Poland;X-APPLE-RADIUS=100;X-TITLE=Dom Kultury w Łęczycy:geo
 :52.3107278,16.88881649999996
END:VEVENT
END:VCALENDAR