BEGIN:VCALENDAR
VERSION:2.0
PRODID:-//wp-events-plugin.com//7.1.7//EN
BEGIN:VEVENT
UID:8501@powiat.poznan.pl
DTSTART:20241027T150000Z
DTEND:20241027T150000Z
DTSTAMP:20241010T103254Z
URL:https://powiat.poznan.pl/events/festiwal-muzyki-kameralnej-w-buku-4/
SUMMARY:Festiwal Muzyki Kameralnej w Buku
DESCRIPTION:IV Festiwal Muzyki Kameralnej im. ks. dr. Józefa Surzyńskiego
  w Buku\nWięcej informacji na buk.gmina.pl\n\n
ATTACH;FMTTYPE=image/jpeg:https://powiat.poznan.pl/wp-content/uploads/2024
 /10/festiwal-muzyki-kameralnej_buk460670610_986053709989507_82834734557033
 09208_n.jpg
CATEGORIES:Kultura i sztuka
LOCATION:Sanktuarium Matki Bożej Literackiej w Buku\, Mury 30\, Buk\, Pola
 nd
GEO:52.35655;16.518697999999972
X-APPLE-STRUCTURED-LOCATION;VALUE=URI;X-ADDRESS=Mury 30\, Buk\, Poland;X-AP
 PLE-RADIUS=100;X-TITLE=Sanktuarium Matki Bożej Literackiej w Buku:geo:52.
 35655,16.518697999999972
END:VEVENT
END:VCALENDAR