BEGIN:VCALENDAR
VERSION:2.0
PRODID:-//wp-events-plugin.com//7.1.7//EN
BEGIN:VEVENT
UID:8279@powiat.poznan.pl
DTSTART:20240908T093000Z
DTEND:20240908T143000Z
DTSTAMP:20240821T115307Z
URL:https://powiat.poznan.pl/events/festiwal-ornitologiczny-w-uzarzewie/
SUMMARY:Festiwal Ornitologiczny w Uzarzewie
DESCRIPTION:Festiwal Ornitologiczny w Uzarzewie\nWięcej informacji na swar
 zedz.pl\n\n
ATTACH;FMTTYPE=image/jpeg:https://powiat.poznan.pl/wp-content/uploads/2024
 /08/festiwal-ornitologiczny_uzarzewo.jpg
CATEGORIES:Edukacja,Ekologia
LOCATION:Muzeum Przyrodniczo-Łowieckie w Uzarzewie\, ul. Akacjowa 12\, 62-
 006 Uzarzewo\, Poland
GEO:52.451411;17.125475
X-APPLE-STRUCTURED-LOCATION;VALUE=URI;X-ADDRESS=ul. Akacjowa 12\, 62-006 Uz
 arzewo\, Poland;X-APPLE-RADIUS=100;X-TITLE=Muzeum Przyrodniczo-Łowieckie 
 w Uzarzewie:geo:52.451411,17.125475
END:VEVENT
END:VCALENDAR