BEGIN:VCALENDAR
VERSION:2.0
PRODID:-//wp-events-plugin.com//7.1.7//EN
BEGIN:VEVENT
UID:9251@powiat.poznan.pl
DTSTART:20250810T110000Z
DTEND:20250810T150000Z
DTSTAMP:20250722T133103Z
URL:https://powiat.poznan.pl/events/festiwal-sztuki-ludowej-3/
SUMMARY:Festiwal Sztuki Ludowej
DESCRIPTION:Muzeum Rolnictwa i Przemysłu Rolno-Spożywczego w Szreniawie z
 aprasza na XVIII Festiwal Sztuki Ludowej w Muzeum Rolnictwa w Szreniawie\,
  który odbędzie się w niedzielę\, 10 sierpnia\, w godz. 12.00-16.00. W
  programie imprezy m.in. występy zespołów folklorystycznych z Chile\, G
 ruzji\, Indii\, Kenii\, Łotwy\, Mongolii\, Senegalu i Słowacji\, a takż
 e stoiska twórców ludowych i rękodzielników oraz konkursy i zabawy dla
  najmłodszych. Wydarzenie wspiera m.in. powiat poznański.\n\n
ATTACH;FMTTYPE=image/jpeg:https://powiat.poznan.pl/wp-content/uploads/2025
 /07/img-20231219-wa0070-1024x697-1.jpg
CATEGORIES:Dla dzieci,Dla seniora,Piknik,Rozrywka
LOCATION:Muzeum Narodowe Rolnictwa i Przemysłu Rolno-Spożywczego w Szreni
 awie\, ul. Dworcowa 5\, Szreniawa\, Wielkopolskie\, 62-052\, Poland
GEO:52.3165841;16.797744400000056
X-APPLE-STRUCTURED-LOCATION;VALUE=URI;X-ADDRESS=ul. Dworcowa 5\, Szreniawa\
 , Wielkopolskie\, 62-052\, Poland;X-APPLE-RADIUS=100;X-TITLE=Muzeum Narodo
 we Rolnictwa i Przemysłu Rolno-Spożywczego w Szreniawie:geo:52.3165841,1
 6.797744400000056
END:VEVENT
END:VCALENDAR