BEGIN:VCALENDAR
VERSION:2.0
PRODID:-//wp-events-plugin.com//7.1.7//EN
BEGIN:VEVENT
UID:9066@powiat.poznan.pl
DTSTART:20250614T150000Z
DTEND:20250614T180000Z
DTSTAMP:20250522T080108Z
URL:https://powiat.poznan.pl/events/festiwal-talentow-i-pasji-2/
SUMMARY:Festiwal talentów i pasji
DESCRIPTION:Gala finałowa\, podczas której nastąpi prezentacja laureató
 w i wręczenie nagród dla uczestników\, odbędzie się 14. czerwca 2025 
 roku o godz. 16.00 w Pałacu Jankowice.\n\n\n\n&nbsp\;
ATTACH;FMTTYPE=image/jpeg:https://powiat.poznan.pl/wp-content/uploads/2025
 /05/tp10.png
CATEGORIES:Dla dzieci,Dla seniora,Edukacja,Gale,Kultura i sztuka
LOCATION:Pałac w Jankowicach\, ul. Ogrodowa 2\, Jankowice\, Poland
GEO:52.4394721;16.61704659999998
X-APPLE-STRUCTURED-LOCATION;VALUE=URI;X-ADDRESS=ul. Ogrodowa 2\, Jankowice\
 , Poland;X-APPLE-RADIUS=100;X-TITLE=Pałac w Jankowicach:geo:52.4394721,16
 .61704659999998
END:VEVENT
END:VCALENDAR