BEGIN:VCALENDAR
VERSION:2.0
PRODID:-//wp-events-plugin.com//7.1.7//EN
BEGIN:VEVENT
UID:8317@powiat.poznan.pl
DTSTART:20240921T090000Z
DTEND:20240921T130000Z
DTSTAMP:20240828T100730Z
URL:https://powiat.poznan.pl/events/festyn-ekologiczny-4/
SUMMARY:Festyn Ekologiczny
DESCRIPTION:IX Festyn Ekologiczny\nWięcej informacji na kornik.pl\n\n
ATTACH;FMTTYPE=image/jpeg:https://powiat.poznan.pl/wp-content/uploads/2024
 /08/festyn-ekologiczny_0.png
CATEGORIES:Piknik
LOCATION:Plac Niepodległości\, Plac Niepodległości\, Kórnik\, Poland
GEO:52.2480262;17.088715200000024
X-APPLE-STRUCTURED-LOCATION;VALUE=URI;X-ADDRESS=Plac Niepodległości\, Kó
 rnik\, Poland;X-APPLE-RADIUS=100;X-TITLE=Plac Niepodległości:geo:52.2480
 262,17.088715200000024
END:VEVENT
END:VCALENDAR