BEGIN:VCALENDAR
VERSION:2.0
PRODID:-//wp-events-plugin.com//7.1.7//EN
BEGIN:VEVENT
UID:9342@powiat.poznan.pl
DTSTART:20250829T160000Z
DTEND:20250829T190000Z
DTSTAMP:20250829T095154Z
URL:https://powiat.poznan.pl/events/festyn-na-dzikim-zachodzie/
SUMMARY:Festyn na Dzikim Zachodzie
DESCRIPTION:Festyn Rodzinny "Żegnaj Lato" Na Dzikim Zachodzie w Tulcach. S
 tartujemy o godz. 17:00 i zapraszamy całe rodziny na wspólną zabawę. C
 zekają na Was animacje dla dzieci\, piana party i dmuchańce\, a dla odwa
 żnych – Mistrzostwa Gminy w Rzucie Gumiakiem „Kalosz Vibe”. Wieczor
 em odpoczniemy na seansie kina plenerowego z filmem „Wojna z dziadkiem
 ”\, a noc zakończymy tanecznym krokiem na kolorowej dyskotece Silent Di
 sco. Wstęp wolny – przyjdźcie i bawcie się razem z nami!\n\n
ATTACH;FMTTYPE=image/jpeg:https://powiat.poznan.pl/wp-content/uploads/2025
 /08/539803963_1185649353609414_676836709917950976_n.jpg
CATEGORIES:Piknik
LOCATION:Kompleks boisk GOKiS w Kleszczewie\, ul. Poznańska \, 63-005 Kles
 zczewo\, Poland
GEO:52.334702;17.168287
X-APPLE-STRUCTURED-LOCATION;VALUE=URI;X-ADDRESS=ul. Poznańska \, 63-005 Kl
 eszczewo\, Poland;X-APPLE-RADIUS=100;X-TITLE=Kompleks boisk GOKiS w Kleszc
 zewie:geo:52.334702,17.168287
END:VEVENT
END:VCALENDAR