BEGIN:VCALENDAR
VERSION:2.0
PRODID:-//wp-events-plugin.com//7.1.7//EN
BEGIN:VEVENT
UID:9291@powiat.poznan.pl
DTSTART;VALUE=DATE:20250814
DTEND;VALUE=DATE:20250816
DTSTAMP:20250812T082252Z
URL:https://powiat.poznan.pl/events/festyn-qultowe-gultowy/
SUMMARY:Festyn Qultowe Gułtowy
DESCRIPTION:W dniach 14-15 sierpnia odbędzie się Festyn Qultowe Gułtowy.
  W tym roku impreza odbędzie się pod hasłem "Bo tutaj jest jak jest... 
 " Miejsce\, ludzie i czas w jakim żyjemy\, determinuje nasze zachowania\,
  kształtuje naszą tożsamość kulturową oraz wpływa na nasze samopocz
 ucie i działanie. To już 20 Qultowe Gułtowy. Podczas jubileuszowych Qul
 towych wystąpią wspaniali artyści. Będzie dużo dobrej muzyki\, pozyty
 wnej energii i szampańskiej zabawy. Będzie kolorowo\, smacznie i słodko
 . Będą niespodzianki i będzie fajnie.\n\n
ATTACH;FMTTYPE=image/jpeg:https://powiat.poznan.pl/wp-content/uploads/2025
 /08/525678204_1846289802979909_4215757082806712481_n.jpg
CATEGORIES:Jarmark,Rozrywka
LOCATION:Gołtowy\, Gułtowy\, Gułtowy\, Poland
GEO:52.351063;17.33097
X-APPLE-STRUCTURED-LOCATION;VALUE=URI;X-ADDRESS=Gułtowy\, Gułtowy\, Polan
 d;X-APPLE-RADIUS=100;X-TITLE=Gołtowy:geo:52.351063,17.33097
END:VEVENT
END:VCALENDAR