BEGIN:VCALENDAR
VERSION:2.0
PRODID:-//wp-events-plugin.com//7.1.7//EN
BEGIN:VEVENT
UID:9098@powiat.poznan.pl
DTSTART:20250607T120000Z
DTEND:20250607T160000Z
DTSTAMP:20250522T095408Z
URL:https://powiat.poznan.pl/events/festyn-rodzinny-w-tulcach/
SUMMARY:Festyn Rodzinny w Tulcach
DESCRIPTION:Festyn Rodzinny w Tulcach\n\n
ATTACH;FMTTYPE=image/jpeg:https://powiat.poznan.pl/wp-content/uploads/2025
 /05/499900039_1226624182588808_8241482043890008013_n.jpg
CATEGORIES:Piknik,Rozrywka
LOCATION:Szkoła Podstawowa im. Powstańców Wielkopolskich w Tulcach\, Szk
 oła Podstawowa im. Powstańców Wielkopolskich w Tulcach\, Tulce\, Poland
GEO:52.344631;17.066047
X-APPLE-STRUCTURED-LOCATION;VALUE=URI;X-ADDRESS=Szkoła Podstawowa im. Pows
 tańców Wielkopolskich w Tulcach\, Tulce\, Poland;X-APPLE-RADIUS=100;X-TI
 TLE=Szkoła Podstawowa im. Powstańców Wielkopolskich w Tulcach:geo:52.34
 4631,17.066047
END:VEVENT
END:VCALENDAR