BEGIN:VCALENDAR
VERSION:2.0
PRODID:-//wp-events-plugin.com//7.1.7//EN
BEGIN:VEVENT
UID:8970@powiat.poznan.pl
DTSTART:20250505T230000Z
DTEND:20250610T230000Z
DTSTAMP:20250506T094022Z
URL:https://powiat.poznan.pl/events/galeria-swiat-zatrzymany/
SUMMARY:Galeria "Świat zatrzymany"
DESCRIPTION:Wystawa jest podsumowaniem czteromiesięcznej pracy grup malars
 kich  CK Przeźmierowo prowadzonych przez instruktora Magdalenę Łuczak.
 \n\nMartwa natura czyi  malarska lub rysunkowa kompozycja nieożywionych 
 przedmiotów dobranych   ze względów kompozycyjno‑estetycznych . Tem
 at ten  otworzył rok kulturalny w kołach malarskich CK Przeźmierowo. U
 czestnicy   zmierzyli się  z zadaniem ustawienia wszystkich elementów
  kompozycji z uwzględnieniem  różnych źródeł światła\, by wydoby
 ć pożądaną  atmosferę obrazu \, dodając mu  wymiaru i głębi.  T
 o Temat \, który  stworzył  uczestnikom przestrzeń na  eksperymentow
 anie różnymi układami faktur\, kształtów i dał im dużą wolność w
  doborze kolorystyki ich wizji.\n\nFormat prezentowanych prac dobrany zost
 ał w zależności od indywidualnych  upodobań uczestników. Technika 
 – olej na płótnie. Wstęp wolny.\n\n\n\n&nbsp\;
ATTACH;FMTTYPE=image/jpeg:https://powiat.poznan.pl/wp-content/uploads/2025
 /05/wystawa-dk-m-.jpg
CATEGORIES:Kultura i sztuka,wystawa
LOCATION:Dom Kultury w Tarnowie Podgórnym -Gminny Ośrodek Kultury "SEZAM"
 \, ul. Ogrodowa 14\, Tarnowo Podgórne\,  62-080\, Poland
GEO:52.4346118;16.688943600000016
X-APPLE-STRUCTURED-LOCATION;VALUE=URI;X-ADDRESS=ul. Ogrodowa 14\, Tarnowo P
 odgórne\,  62-080\, Poland;X-APPLE-RADIUS=100;X-TITLE=Dom Kultury w Tarno
 wie Podgórnym -Gminny Ośrodek Kultury \"SEZAM\":geo:52.4346118,16.688943
 600000016
END:VEVENT
END:VCALENDAR