BEGIN:VCALENDAR
VERSION:2.0
PRODID:-//wp-events-plugin.com//7.1.7//EN
BEGIN:VEVENT
UID:3548@powiat.poznan.pl
DTSTART;VALUE=DATE:20190517
DTEND;VALUE=DATE:20190520
DTSTAMP:20190508T074701Z
URL:https://powiat.poznan.pl/events/getaway/
SUMMARY:GETAWAY
DESCRIPTION:GETAWAY - Przygoda jest w Tobie
ATTACH;FMTTYPE=image/jpeg:https://powiat.poznan.pl/wp-content/uploads/2019
 /05/GETAWAY.png
CATEGORIES:Rozrywka
LOCATION:Centrum Wykładowe Politechniki Poznańskiej\, ul. Piotrowo 2\, Po
 znań\, Poland
GEO:52.403719;16.949095899999975
X-APPLE-STRUCTURED-LOCATION;VALUE=URI;X-ADDRESS=ul. Piotrowo 2\, Poznań\, 
 Poland;X-APPLE-RADIUS=100;X-TITLE=Centrum Wykładowe Politechniki Poznańs
 kiej:geo:52.403719,16.949095899999975
END:VEVENT
END:VCALENDAR