BEGIN:VCALENDAR
VERSION:2.0
PRODID:-//wp-events-plugin.com//7.1.7//EN
BEGIN:VEVENT
UID:8359@powiat.poznan.pl
DTSTART:20240919T230000Z
DTEND:20240921T230000Z
DTSTAMP:20240920T083328Z
URL:https://powiat.poznan.pl/events/glos-ludzki-w-teorii-i-praktyce-komuni
 kacja-a-wykorzystanie-w-kulturze-i-sztuce-2/
SUMMARY:Głos ludzki w teorii i praktyce - komunikacja a wykorzystanie w ku
 lturze i sztuce
DESCRIPTION:Głos ludzki w teorii i praktyce - komunikacja a wykorzystanie 
 w kulturze i sztuce\nWięcej informacji na czerwonak.pl\n\n
ATTACH;FMTTYPE=image/jpeg:https://powiat.poznan.pl/wp-content/uploads/2024
 /09/89921glosludzkiplakatjpg.jpg
CATEGORIES:Kultura i sztuka,Warsztaty
LOCATION:Owińska\, ul. Bydgoska 4/6\, 62-005 Owińska\, Poland
GEO:52.515834;16.974492
X-APPLE-STRUCTURED-LOCATION;VALUE=URI;X-ADDRESS=ul. Bydgoska 4/6\, 62-005 O
 wińska\, Poland;X-APPLE-RADIUS=100;X-TITLE=Owińska:geo:52.515834,16.9744
 92
END:VEVENT
END:VCALENDAR