BEGIN:VCALENDAR
VERSION:2.0
PRODID:-//wp-events-plugin.com//7.1.7//EN
BEGIN:VEVENT
UID:8441@powiat.poznan.pl
DTSTART:20241006T110000Z
DTEND:20241006T110000Z
DTSTAMP:20241003T063217Z
URL:https://powiat.poznan.pl/events/gra-miejska-wiezy-ponadczasowe-w-murow
 anej-goslinie/
SUMMARY:Gra miejska „Więzy ponadczasowe” w Murowanej Goślinie
DESCRIPTION:Gra miejska „Więzy ponadczasowe” w Murowanej Goślinie\nWi
 ęcej informacji na murowana-goslina.pl\n\n
ATTACH;FMTTYPE=image/jpeg:https://powiat.poznan.pl/wp-content/uploads/2024
 /10/gra-miejska-wiezy-ponadczasowe-zapraszamy-6-pazdziernika-2024-r.-godz.
 -12.00.jpg
CATEGORIES:Edukacja
LOCATION:Murowana Goślina\, Murowana Goślina\, Murowana Goślina\, Poland
GEO:52.5738181;17.00865799999997
X-APPLE-STRUCTURED-LOCATION;VALUE=URI;X-ADDRESS=Murowana Goślina\, Murowan
 a Goślina\, Poland;X-APPLE-RADIUS=100;X-TITLE=Murowana Goślina:geo:52.57
 38181,17.00865799999997
END:VEVENT
END:VCALENDAR