BEGIN:VCALENDAR
VERSION:2.0
PRODID:-//wp-events-plugin.com//7.1.7//EN
BEGIN:VEVENT
UID:8655@powiat.poznan.pl
DTSTART:20250315T083000Z
DTEND:20250315T083000Z
DTSTAMP:20241119T093549Z
URL:https://powiat.poznan.pl/events/grand-prix-zespolow-mieszanych-w-siatk
 owce-5/
SUMMARY:Grand Prix Zespołów Mieszanych w siatkówce
DESCRIPTION:Grand Prix Zespołów Mieszanych w siatkówce\nWięcej informac
 ji na puszczykowo.pl\n\n
ATTACH;FMTTYPE=image/jpeg:https://powiat.poznan.pl/wp-content/uploads/2024
 /11/grand_gpzm_20242025.jpg
CATEGORIES:Sport
LOCATION:Hala Widowiskowo - Sportowa w Puszczykowie\, ul. Podgórna 21\, Pu
 szczykowo\, Poland
GEO:52.30556120000001;16.869176100000004
X-APPLE-STRUCTURED-LOCATION;VALUE=URI;X-ADDRESS=ul. Podgórna 21\, Puszczyk
 owo\, Poland;X-APPLE-RADIUS=100;X-TITLE=Hala Widowiskowo - Sportowa w Pusz
 czykowie:geo:52.30556120000001,16.869176100000004
END:VEVENT
END:VCALENDAR