BEGIN:VCALENDAR
VERSION:2.0
PRODID:-//wp-events-plugin.com//7.1.7//EN
BEGIN:VEVENT
UID:8422@powiat.poznan.pl
DTSTART:20241020T080000Z
DTEND:20241020T140000Z
DTSTAMP:20241001T080919Z
URL:https://powiat.poznan.pl/events/grzybobranie-z-trzecim-krolestwem/
SUMMARY:GRZYBOBRANIE z Trzecim Królestwem
DESCRIPTION:GRZYBOBRANIE z Trzecim Królestwem\n\nMożna się też wybrać
  się do lasu z Izą Urbanowicz – prawdziwą\, dyplomowana przewodniczk
 ą po Trzecim Królestwie!\n\nW dniu 20 października  od 9.00 – 15.00
  odbędzie się grzybobranie i spacer mykologiczny do tajemniczego miejsc
 a w wielkopolskim lesie. Zbiory sprawdzone zostaną przez Izę Urbanowicz 
 – specjalistę grzyboznawcę.  Na koniec w chacie grillowej Dworu Skrzy
 nki odbędzie ognisko i wspólna biesiada Tu wybierzemy króla grzybobrani
 a i pokażemy najciekawsze okazy.\n\nIza Urbanowicz – grzyboznawca\, fan
 ka grzybów dokumentująca życie Fungi\, czyli grzybów – trzeciego po 
 Faunie i Florze królestwa. Twórczyni profili\, tekstów\, filmów i foto
 grafii o tematyce mykologicznej. Dziennikarka i autorka wielu publikacji p
 opularyzujących grzyby. Edukatorka z misją rozpowszechniania wiedzy o Tr
 zecim Królestwie. Więcej informacji na profilu: https://www.facebook.co
 m/TrzecieKrolestwo\n\nMiejsce grzybobrania w dniu 20 października wskaże
 my po zgłoszeniu. Dojazd do lasu i do Dworu Skrzynki (gmina Stęszew\, po
 w. poznański) we własnym zakresie.\n\nKoszt 50 zł/osoba\n\nDzieci do la
 t 10 – 25 zł/osoba\n\nZgłoszenia prosimy kierować poprzez stronę: w
 ww.dworskrzynki.pl lub na adres: kontakt@instytutskrzynki.pl\n\nLiczba m
 iejsc ograniczona – decyduje kolejność zgłoszenia.\n\nSerdecznie zapr
 aszamy.\n\n&nbsp\;\n\nPrzygotował: Instytut Skrzynki
ATTACH;FMTTYPE=image/jpeg:https://powiat.poznan.pl/wp-content/uploads/2021
 /10/event-kalendarz.png
CATEGORIES:Ekologia
LOCATION:Dwór Skrzynki\, Plac Parkowy 1\, Skrzynki\, gm. Stęszew\, 62-060
 \, Poland
GEO:52.342096;16.606405
X-APPLE-STRUCTURED-LOCATION;VALUE=URI;X-ADDRESS=Plac Parkowy 1\, Skrzynki\,
  gm. Stęszew\, 62-060\, Poland;X-APPLE-RADIUS=100;X-TITLE=Dwór Skrzynki:
 geo:52.342096,16.606405
END:VEVENT
END:VCALENDAR