BEGIN:VCALENDAR
VERSION:2.0
PRODID:-//wp-events-plugin.com//7.1.7//EN
BEGIN:VEVENT
UID:8485@powiat.poznan.pl
DTSTART:20241031T170000Z
DTEND:20241031T183000Z
DTSTAMP:20241008T085832Z
URL:https://powiat.poznan.pl/events/halloween-party-w-kostrzynie/
SUMMARY:Halloween Party w Kostrzynie
DESCRIPTION:HALLOWEEN PARTY w Międzypokoleniowym Centrum Inicjatyw Lokaln
 ych!\nWięcej informacji na kostrzyn.wlkp.pl\n\n\n\n&nbsp\;\n\n&nbsp\;
ATTACH;FMTTYPE=image/jpeg:https://powiat.poznan.pl/wp-content/uploads/2024
 /10/halloween_kostrzyn_zapraszamy_dzieci_od_7_rok_zycia_na__1_.jpg
CATEGORIES:Dla dzieci
LOCATION:Międzypokoleniowe Centrum Inicjatyw Lokalnych\, ul. Szymańskiego
  1\, 62-025 Kostrzyn Wlkp.\, Poland
GEO:52.398904;17.236779
X-APPLE-STRUCTURED-LOCATION;VALUE=URI;X-ADDRESS=ul. Szymańskiego 1\, 62-02
 5 Kostrzyn Wlkp.\, Poland;X-APPLE-RADIUS=100;X-TITLE=Międzypokoleniowe Ce
 ntrum Inicjatyw Lokalnych:geo:52.398904,17.236779
END:VEVENT
END:VCALENDAR