BEGIN:VCALENDAR
VERSION:2.0
PRODID:-//wp-events-plugin.com//7.1.7//EN
BEGIN:VEVENT
UID:8559@powiat.poznan.pl
DTSTART:20241026T150000Z
DTEND:20241026T190000Z
DTSTAMP:20241025T120730Z
URL:https://powiat.poznan.pl/events/halloween-w-murowanej-goslinie/
SUMMARY:Halloween w Murowanej Goślinie
DESCRIPTION:Halloween w Murowanej Goślinie\nWięcej informacji na murowana
 -goslina.pl\n\n\n\n&nbsp\;
ATTACH;FMTTYPE=image/jpeg:https://powiat.poznan.pl/wp-content/uploads/2024
 /10/centrum-kultury-i-sportu-w-murowanej-goslinie-halloween-26-pazdziernik
 a-2024-r.jpg
CATEGORIES:Dla dzieci
LOCATION:Hala Sportowa MG Sport\, ul. Mściszewska 10\, Murowana Goślina\,
  Poland
GEO:52.5759122;17.001585100000057
X-APPLE-STRUCTURED-LOCATION;VALUE=URI;X-ADDRESS=ul. Mściszewska 10\, Murow
 ana Goślina\, Poland;X-APPLE-RADIUS=100;X-TITLE=Hala Sportowa MG Sport:ge
 o:52.5759122,17.001585100000057
END:VEVENT
END:VCALENDAR