BEGIN:VCALENDAR
VERSION:2.0
PRODID:-//wp-events-plugin.com//7.1.7//EN
BEGIN:VEVENT
UID:8878@powiat.poznan.pl
DTSTART:20250308T083000Z
DTEND:20250309T083000Z
DTSTAMP:20250226T115855Z
URL:https://powiat.poznan.pl/events/halowe-mistrzostwa-wielkopolski-w-lucz
 nictwie/
SUMMARY:Halowe Mistrzostwa Wielkopolski w Łucznictwie
DESCRIPTION:XXXII Halowe Mistrzostwa Wielkopolski w Łucznictwie\nWięcej i
 nformacji na pobiedziska.pl\n\n
ATTACH;FMTTYPE=image/jpeg:https://powiat.poznan.pl/wp-content/uploads/2025
 /02/halowe-mistrzostwa-w-lucznictwie_pobiedziska.png
CATEGORIES:Sport
LOCATION:Szkoła Podstawowa w Pobiedziskach im. Kazimierza Odnowiciela\, ul
 . Kostrzyńska 23\, 62-010 Pobiedziska\, Poland
GEO:52.475041;17.288229
X-APPLE-STRUCTURED-LOCATION;VALUE=URI;X-ADDRESS=ul. Kostrzyńska 23\, 62-01
 0 Pobiedziska\, Poland;X-APPLE-RADIUS=100;X-TITLE=Szkoła Podstawowa w Pob
 iedziskach im. Kazimierza Odnowiciela:geo:52.475041,17.288229
END:VEVENT
END:VCALENDAR