BEGIN:VCALENDAR
VERSION:2.0
PRODID:-//wp-events-plugin.com//7.1.7//EN
BEGIN:VEVENT
UID:8387@powiat.poznan.pl
DTSTART:20241016T090000Z
DTEND:20241016T130000Z
DTSTAMP:20240920T124742Z
URL:https://powiat.poznan.pl/events/i-mosinskie-forum-biznesu-2024/
SUMMARY:I Mosińskie Forum Biznesu 2024
DESCRIPTION:I Mosińskie Forum Biznesu 2024\nWięcej informacji na mosina.p
 l\n\n
ATTACH;FMTTYPE=image/jpeg:https://powiat.poznan.pl/wp-content/uploads/2024
 /09/mosinskie_forum_biznesu_plakat.png
CATEGORIES:Konferencje i debaty
LOCATION:Hotel Szablewski\, ul. Pod Topolami 1\, 62-050 Dymaczewo Nowe\, Po
 land
GEO:52.239744;16.756939
X-APPLE-STRUCTURED-LOCATION;VALUE=URI;X-ADDRESS=ul. Pod Topolami 1\, 62-050
  Dymaczewo Nowe\, Poland;X-APPLE-RADIUS=100;X-TITLE=Hotel Szablewski:geo:5
 2.239744,16.756939
END:VEVENT
END:VCALENDAR