BEGIN:VCALENDAR
VERSION:2.0
PRODID:-//wp-events-plugin.com//7.1.7//EN
BEGIN:VEVENT
UID:9563@powiat.poznan.pl
DTSTART:20260123T180000Z
DTEND:20260123T200000Z
DTSTAMP:20260108T124422Z
URL:https://powiat.poznan.pl/events/immersyjne-przestrzenie-dzwieku/
SUMMARY:Immersyjne przestrzenie dźwięku
DESCRIPTION:\nGOKiS Kleszczewo rozpoczyna nowy cykl wydarzeń w Gminnym Oś
 rodku Kultury i Sportu w Kleszczewie „GOKiS Nocą: Cykl Wydarzeń Specja
 lnych”. Wydarzenie pierwsze: Immersyjne doświadczenie dźwiękowe opart
 e na muzyce elektronicznej Vangelisa. Kuratorska projekcja dźwięku w pe
 łnej\, studyjnej formie - bez sceny\, bez wykonawców\, z pełnym skupie
 niem na brzmieniu i emocji.\n- Zapraszamy na niezwykłe spotkanie\, w kt
 órym dźwięk przestaje być tłem\, a staje się doświadczeniem. W ciem
 ności sali koncertowej zanurzymy się w przestrzeń\, która oddycha brzm
 ieniem - bez obrazów. Będzie tylko słuch i jego uważność. Uwaga: pro
 simy o punktualne przybycie - po rozpoczęciu nie będzie możliwości we
 jścia na salę. Przewidywany czas trwania wydarzenia: ok. 60 minut. Ser
 decznie zapraszamy do wspólnego zanurzenia się w brzmienia\, które wybr
 zmiewają nie tylko w przestrzeni\, lecz także w nas samych - informują 
 organizatorzy.\n\n\n\n\n\n\n&nbsp\;\n\n
ATTACH;FMTTYPE=image/jpeg:https://powiat.poznan.pl/wp-content/uploads/2026
 /01/koncert_immersyjny_plakat.jpg
CATEGORIES:Kultura i sztuka
LOCATION:Kleszczewo GOKiS\, ul. Poznańska 6\, Kleszczewo\, Poland
GEO:52.334401;17.168099
X-APPLE-STRUCTURED-LOCATION;VALUE=URI;X-ADDRESS=ul. Poznańska 6\, Kleszcze
 wo\, Poland;X-APPLE-RADIUS=100;X-TITLE=Kleszczewo GOKiS:geo:52.334401,17.1
 68099
END:VEVENT
END:VCALENDAR