BEGIN:VCALENDAR
VERSION:2.0
PRODID:-//wp-events-plugin.com//7.1.7//EN
BEGIN:VEVENT
UID:9275@powiat.poznan.pl
DTSTART:20250814T100000Z
DTEND:20250814T113000Z
DTSTAMP:20250811T083135Z
URL:https://powiat.poznan.pl/events/inwestycja-w-pobiedziskach/
SUMMARY:Inwestycja w Pobiedziskach
DESCRIPTION:14 sierpnia na godz. 11:00 Burmistrz Miasta i Gminy Pobiedziska
  zaprasza na uroczystość podpisania aktu erekcyjnego i wmurowania kamien
 ia węgielnego pod budowę Centrum Rehabilitacji i Edukacji. Goście spotk
 ają się przy Pobiedziskim Ośrodku Kultury na ul. Kostrzyńskiej 21 w Po
 biedziskach kwadrans wcześniej.\n\n
ATTACH;FMTTYPE=image/jpeg:https://powiat.poznan.pl/wp-content/uploads/2025
 /08/pob.png
CATEGORIES:Społeczne
LOCATION:Pobiedziska\, Pobiedziska\, Pobiedziska\, Poland
GEO:52.47747;17.288000799999963
X-APPLE-STRUCTURED-LOCATION;VALUE=URI;X-ADDRESS=Pobiedziska\, Pobiedziska\,
  Poland;X-APPLE-RADIUS=100;X-TITLE=Pobiedziska:geo:52.47747,17.28800079999
 9963
END:VEVENT
END:VCALENDAR