BEGIN:VCALENDAR
VERSION:2.0
PRODID:-//wp-events-plugin.com//7.1.7//EN
BEGIN:VEVENT
UID:9097@powiat.poznan.pl
DTSTART:20250524T090000Z
DTEND:20250524T120000Z
DTSTAMP:20250522T095117Z
URL:https://powiat.poznan.pl/events/iv-dogtrekking-2/
SUMMARY:IV Dogtrekking
DESCRIPTION:W dniu 24 maja br. odbędzie się w Cieślach Dogtrekking – b
 ieg z psem.\n\nZapisy:\n\n 	osirbuk@post.pl\n 	782 986 615\n\n
ATTACH;FMTTYPE=image/jpeg:https://powiat.poznan.pl/wp-content/uploads/2025
 /05/b3.jpg
CATEGORIES:Rozrywka,Sport,Turystyka i rekreacja
LOCATION:Cieśle\, Wiata biesiadna w Cieślach\, Cieśle\, 64-320\, Poland
GEO:52.359033;16.613412
X-APPLE-STRUCTURED-LOCATION;VALUE=URI;X-ADDRESS=Wiata biesiadna w Cieślach
 \, Cieśle\, 64-320\, Poland;X-APPLE-RADIUS=100;X-TITLE=Cieśle:geo:52.359
 033,16.613412
END:VEVENT
END:VCALENDAR