BEGIN:VCALENDAR
VERSION:2.0
PRODID:-//wp-events-plugin.com//7.1.7//EN
BEGIN:VEVENT
UID:9104@powiat.poznan.pl
DTSTART:20250628T090000Z
DTEND:20250628T120000Z
DTSTAMP:20250522T110530Z
URL:https://powiat.poznan.pl/events/iv-dogtrekking-3/
SUMMARY:IV Dogtrekking
DESCRIPTION:W dniu 28 czerwca br. odbędzie się w Niepruszewie Dogtrekking
  – bieg z psem.\n\nZapisy:\n\n 	osirbuk@post.pl\n 	782 986 615\n\n
ATTACH;FMTTYPE=image/jpeg:https://powiat.poznan.pl/wp-content/uploads/2025
 /05/b9.jpg
CATEGORIES:Rozrywka,Sport,Turystyka i rekreacja
LOCATION:Wiata przy sali wiejskiej w Niepruszewie\, ul. Starowiejska 19\,  
 64-320 Niepruszewo\, Poland
GEO:52.381814;16.607232
X-APPLE-STRUCTURED-LOCATION;VALUE=URI;X-ADDRESS=ul. Starowiejska 19\,  64-3
 20 Niepruszewo\, Poland;X-APPLE-RADIUS=100;X-TITLE=Wiata przy sali wiejski
 ej w Niepruszewie:geo:52.381814,16.607232
END:VEVENT
END:VCALENDAR