BEGIN:VCALENDAR
VERSION:2.0
PRODID:-//wp-events-plugin.com//7.1.7//EN
BEGIN:VEVENT
UID:8971@powiat.poznan.pl
DTSTART:20250510T090000Z
DTEND:20250510T090000Z
DTSTAMP:20250506T094541Z
URL:https://powiat.poznan.pl/events/iv-dogtrekking/
SUMMARY:IV Dogtrekking
DESCRIPTION:Bieg z psem na dystansie 5 km z odnajdywaniem punktów kontroln
 ych. Więcej na stronie https://buk.gmina.pl/22752-regulamin-iv-dogtrekkin
 gu/\n
ATTACH;FMTTYPE=image/jpeg:https://powiat.poznan.pl/wp-content/uploads/2025
 /05/q.jpg
CATEGORIES:Rozrywka,Sport,Turystyka i rekreacja
LOCATION:Buk\, buk\, buk\, Poland
GEO:52.35536;16.519559
X-APPLE-STRUCTURED-LOCATION;VALUE=URI;X-ADDRESS=buk\, buk\, Poland;X-APPLE-
 RADIUS=100;X-TITLE=Buk:geo:52.35536,16.519559
END:VEVENT
END:VCALENDAR