BEGIN:VCALENDAR
VERSION:2.0
PRODID:-//wp-events-plugin.com//7.1.7//EN
BEGIN:VEVENT
UID:9243@powiat.poznan.pl
DTSTART:20250711T203000Z
DTEND:20250711T220000Z
DTSTAMP:20250710T084438Z
URL:https://powiat.poznan.pl/events/iventi-festiwal/
SUMMARY:IVENTI Festiwal
DESCRIPTION:Zapraszamy na trzecią edycję IVENTI Festival – wyjątkowego
  wydarzenia poświęconego muzyce na instrumenty dęte\, organizowanego pr
 zez Fundację Europejskiego Dziedzictwa Kulturowego „Europejczyk”. To 
 jedyny w swoim rodzaju festiwal\, którego celem jest promocja najznakomit
 szych dzieł światowego repertuaru\, przypominanie zapomnianych kompozycj
 i oraz twórcza interpretacja polskiego dziedzictwa muzycznego. Publiczno
 ść będzie miała okazję usłyszeć zarówno muzykę dawną\, jak i wsp
 ółczesną w wykonaniu znakomitych artystów z Polski i zagranicy.\n\nTeg
 oroczna edycja odbywa się pod hasłem: „Muzyka\, która unosi duszę\, 
 jak wiatr liście”\, każde z festiwalowych wydarzeń to zaproszenie do 
 głębszego wsłuchania się w dźwięki\, na najwyższym poziomie\, któr
 e poruszają i inspirują. W ramach III IVENTI Festival zaplanowano 10 bez
 płatnych koncertów w 5 miejscowościach Wielkopolski. Najbliższy koncer
 t odbędzie się 11 lipca o godz. 21:30 w Mosinie\, przed murami Kościoł
 a pw. św. Mikołaja. W programie: kwintet klarnetowy A-dur W.A. Mozarta\,
  kwartet smyczkowy nr 2 F. Mendelssohna\, kwintet klarnetowy C.M. Webera.\
 n\n
ATTACH;FMTTYPE=image/jpeg:https://powiat.poznan.pl/wp-content/uploads/2025
 /07/1-1-900x600-1.jpg
CATEGORIES:Kultura i sztuka
LOCATION:Mosina Kościół św. Mikołaja\, kościół św Mikołaja\, Mosi
 na\, Poland
GEO:52.246614;16.851581
X-APPLE-STRUCTURED-LOCATION;VALUE=URI;X-ADDRESS=kościół św Mikołaja\, 
 Mosina\, Poland;X-APPLE-RADIUS=100;X-TITLE=Mosina Kościół św. Mikołaj
 a:geo:52.246614,16.851581
END:VEVENT
END:VCALENDAR