BEGIN:VCALENDAR
VERSION:2.0
PRODID:-//wp-events-plugin.com//7.1.7//EN
BEGIN:VEVENT
UID:9633@powiat.poznan.pl
DTSTART:20260327T230000Z
DTEND:20260328T230000Z
DTSTAMP:20260210T095634Z
URL:https://powiat.poznan.pl/events/jarmark-wielkanocny-w-muzeum-w-szrenia
 wie/
SUMMARY:Jarmark Wielkanocny w Muzeum w Szreniawie
DESCRIPTION:W dniach 28-29 marca goście jarmarku będą mieli okazję podz
 iwiać bogaty wybór rękodzieła oraz uczestniczyć w atrakcjach nawiązu
 jących do wielkanocnych tradycji. W trakcie wydarzenia będzie można obs
 erwować pracę artystów ludowych i rzemieślników z różnych zakątkó
 w kraju oraz zakupić ich wyjątkowe wyroby\, takie jak pisanki\, palmy\, 
 koszyki\, rzeźby\, hafty\, biżuterię czy regionalne specjały spożywcz
 e. Jarmark to także okazja do przypomnienia dawnych zwyczajów i obrzęd
 ów wielkanocnych oraz wiosennych tradycji.\n\n\n\n&nbsp\;
ATTACH;FMTTYPE=image/jpeg:https://powiat.poznan.pl/wp-content/uploads/2026
 /02/szr.png
CATEGORIES:Dla dzieci,Dla
 seniora,Edukacja,Kiermasz,Piknik,Rozrywka,Społeczne
LOCATION:Muzeum Narodowe Rolnictwa i Przemysłu Rolno-Spożywczego w Szreni
 awie\, ul. Dworcowa 5\, Szreniawa\, Wielkopolskie\, 62-052\, Poland
GEO:52.3165841;16.797744400000056
X-APPLE-STRUCTURED-LOCATION;VALUE=URI;X-ADDRESS=ul. Dworcowa 5\, Szreniawa\
 , Wielkopolskie\, 62-052\, Poland;X-APPLE-RADIUS=100;X-TITLE=Muzeum Narodo
 we Rolnictwa i Przemysłu Rolno-Spożywczego w Szreniawie:geo:52.3165841,1
 6.797744400000056
END:VEVENT
END:VCALENDAR