BEGIN:VCALENDAR
VERSION:2.0
PRODID:-//wp-events-plugin.com//7.1.7//EN
BEGIN:VEVENT
UID:8432@powiat.poznan.pl
DTSTART:20241005T230000Z
DTEND:20241005T230000Z
DTSTAMP:20241001T093924Z
URL:https://powiat.poznan.pl/events/jesienny-rajd-turystyczny-porazyn/
SUMMARY:Jesienny Rajd Turystyczny Porażyn
DESCRIPTION:44 Jesienny Rajd Turystyczny Porażyn\nWięcej informacji na bu
 k.gmina.pl\n\n\n\n&nbsp\;
ATTACH;FMTTYPE=image/jpeg:https://powiat.poznan.pl/wp-content/uploads/2024
 /10/jesienny-rajd-turystyczny_461078976_451117351274934_516073158645862726
 1_n.jpg
CATEGORIES:Turystyka i rekreacja
LOCATION:Ośrodek Szkoleniowy Nadleśnictwa Grodzisk Wlkp.\, Porażyn\, 64-
 330 Porażyn\, Poland
GEO:52.307239;16.353201
X-APPLE-STRUCTURED-LOCATION;VALUE=URI;X-ADDRESS=Porażyn\, 64-330 Porażyn\
 , Poland;X-APPLE-RADIUS=100;X-TITLE=Ośrodek Szkoleniowy Nadleśnictwa Gro
 dzisk Wlkp.:geo:52.307239,16.353201
END:VEVENT
END:VCALENDAR