BEGIN:VCALENDAR
VERSION:2.0
PRODID:-//wp-events-plugin.com//7.1.7//EN
BEGIN:VEVENT
UID:9197@powiat.poznan.pl
DTSTART:20250801T180000Z
DTEND:20250801T200000Z
DTSTAMP:20250623T105255Z
URL:https://powiat.poznan.pl/events/jj-event-band-w-skorzewie/
SUMMARY:JJ Event Band w Skórzewie
DESCRIPTION:Już 1 sierpnia scena Figowego Zakątka rozbrzmi największymi 
 hitami – od lat 80.\, przez lata 90.\, aż po współczesne przeboje. Na
  żywo zagra JJ Event Band – profesjonalny cover band znany z energetycz
 nych koncertów i świetnego kontaktu z publicznością.\n\n
ATTACH;FMTTYPE=image/jpeg:https://powiat.poznan.pl/wp-content/uploads/2025
 /06/d7.jpg
CATEGORIES:Dla seniora,Kultura i sztuka,Rozrywka,Społeczne
LOCATION:Figowy Zakątek\, Skórzewo\, 60-185 Skórzewo\, Poland
GEO:52.390627;16.791912
X-APPLE-STRUCTURED-LOCATION;VALUE=URI;X-ADDRESS=Skórzewo\, 60-185 Skórzew
 o\, Poland;X-APPLE-RADIUS=100;X-TITLE=Figowy Zakątek:geo:52.390627,16.791
 912
END:VEVENT
END:VCALENDAR