BEGIN:VCALENDAR
VERSION:2.0
PRODID:-//wp-events-plugin.com//7.1.7//EN
BEGIN:VEVENT
UID:7859@powiat.poznan.pl
DTSTART:20240606T100000Z
DTEND:20240606T100000Z
DTSTAMP:20240524T114354Z
URL:https://powiat.poznan.pl/events/kino-bez-barier-2/
SUMMARY:Kino bez barier
DESCRIPTION:Kino bez barier\nCzym jest Kino bez barier?\nKino bez barier to
  dostępne pokazy filmowe\, w każdy wtorek i czwartek w Kinie Pałacowym.
 \nGdzie i kiedy odbywają się seanse Kina bez barier?\nWe wtorki\, o godz
 inie 11:00\, pokazujemy filmy z audiodeskrypcją i napisami w Sali 1 Kinow
 ej.\nW czwartki\, o godzinie 18:00\, pokazujemy filmy z audiodeskrypcją\,
  napisami i tłumaczeniem na Polski Język Migowy w Sali 2 Audiowizualnej.
 \nKino Pałacowe znajduje się w CK Zamek\, przy ulicy Święty Marcin\, w
  Poznaniu.\nIle kosztują bilety i gdzie je kupić?\nBilety na seanse kosz
 tują 5 złotych.\nWażne: Pokazy Kina bez barier cieszą się ogromną po
 pularnością\, a liczba miejsc jest\nograniczona. Zdarza się\, że bilet
 ów nie ma na kilka dni przed pokazem. Zalecamy\nwcześniejszą rezerwacj
 ę biletów w kasie.\nBilety można zakupić na stronie www.kinopalacowe.p
 l lub w kasie CK Zamek.\nRezerwacje przyjmuje kasa CK Zamek\, numer telefo
 nu +48 61 64 65 260.\nKasa jest czynna codziennie w godzinach 10:00 – 2
 1:00.\nJaki jest program na czerwiec?\n\nWtorek\, 4 czerwca\, godzina 11:0
 0\n\nCzwartek\, 6 czerwca\, godzina 18:00\n\nFilm „Za duży na bajki 2
 ” Kristoffera Russa. Czas trwania 1 godzina\, 35 minut\n\nKraj produkcji
 : Polska. Gatunek: familijny\n\nDruga część przygód trójki przyjació
 ł. Tatry latem. Podczas wycieczki Waldek odkrywa\, że jego ojciec mieszk
 a w pobliżu. Chłopiec chce go odnaleźć i zapytać\, dlaczego porzuci
 ł ich rodzinę.\n\nWraz ze Staszkiem\, pod osłoną nocy\, wyruszają na 
 poszukiwania. Prawdę o tej wyprawie ukrywa ich koleżanka Delfina.\n\nIn
 formacja: Organizator.
ATTACH;FMTTYPE=image/jpeg:https://powiat.poznan.pl/wp-content/uploads/2024
 /05/grafika-na-facebooka-002_kino-bez-barier.jpg
CATEGORIES:Kultura i sztuka
LOCATION:Kino Pałacowe\, Święty Marcin 80/82\, Poznań 61-809\, Poland
GEO:52.407941;16.918558
X-APPLE-STRUCTURED-LOCATION;VALUE=URI;X-ADDRESS=Święty Marcin 80/82\, Poz
 nań 61-809\, Poland;X-APPLE-RADIUS=100;X-TITLE=Kino Pałacowe:geo:52.4079
 41,16.918558
END:VEVENT
END:VCALENDAR