BEGIN:VCALENDAR
VERSION:2.0
PRODID:-//wp-events-plugin.com//7.1.7//EN
BEGIN:VEVENT
UID:8790@powiat.poznan.pl
DTSTART:20250204T100000Z
DTEND:20250204T100000Z
DTSTAMP:20250122T073737Z
URL:https://powiat.poznan.pl/events/kino-bez-barier-37/
SUMMARY:Kino bez barier
DESCRIPTION:Kino bez barier – luty\nKino bez barier to projekt specjalnie
  przygotowany dla osób ze szczególnymi potrzebami\, w tym osób z niepe
 łnosprawnościami. Zapraszamy również na Festiwal Kina bez Barier\, now
 e wydarzenie na mapie kulturalnej Poznania\, które odbędzie się w dniac
 h 25 lutego – 1 marca 2025 roku. To unikalna inicjatywa\, która łączy
  świat filmu i dostępności\, promując przy tym równość w dostępie 
 do kultury filmowej. Więcej informacji\, w tym repertuar w załącznikach
 .\n\nKino bez barier informacje i program na luty\n\nKino bez barier progr
 am na luty 
ATTACH;FMTTYPE=image/jpeg:https://powiat.poznan.pl/wp-content/uploads/2025
 /01/kbb_grafika-na-facebooka-i-instagram.jpg
CATEGORIES:Kultura i sztuka
LOCATION:Kino Pałacowe\, Święty Marcin 80/82\, Poznań 61-809\, Poland
GEO:52.407941;16.918558
X-APPLE-STRUCTURED-LOCATION;VALUE=URI;X-ADDRESS=Święty Marcin 80/82\, Poz
 nań 61-809\, Poland;X-APPLE-RADIUS=100;X-TITLE=Kino Pałacowe:geo:52.4079
 41,16.918558
END:VEVENT
END:VCALENDAR