BEGIN:VCALENDAR
VERSION:2.0
PRODID:-//wp-events-plugin.com//7.1.7//EN
BEGIN:VEVENT
UID:8339@powiat.poznan.pl
DTSTART:20241008T100000Z
DTEND:20241008T100000Z
DTSTAMP:20240918T103612Z
URL:https://powiat.poznan.pl/events/kino-bez-barier-6/
SUMMARY:Kino bez barier
DESCRIPTION:Kino bez barier\nProgram na pazdziernik\n\n&nbsp\;\n\n
ATTACH;FMTTYPE=image/jpeg:https://powiat.poznan.pl/wp-content/uploads/2024
 /09/grafika-na-fb-i-instagram_1.jpg
CATEGORIES:Dla seniora
LOCATION:Kino Pałacowe\, Święty Marcin 80/82\, Poznań 61-809\, Poland
GEO:52.407941;16.918558
X-APPLE-STRUCTURED-LOCATION;VALUE=URI;X-ADDRESS=Święty Marcin 80/82\, Poz
 nań 61-809\, Poland;X-APPLE-RADIUS=100;X-TITLE=Kino Pałacowe:geo:52.4079
 41,16.918558
END:VEVENT
END:VCALENDAR