BEGIN:VCALENDAR
VERSION:2.0
PRODID:-//wp-events-plugin.com//7.1.7//EN
BEGIN:VEVENT
UID:8864@powiat.poznan.pl
DTSTART:20250304T100000Z
DTEND:20250304T100000Z
DTSTAMP:20250214T110934Z
URL:https://powiat.poznan.pl/events/kino-bez-barier-marzec/
SUMMARY:Kino bez barier – marzec
DESCRIPTION:Kino bez barier – marzec\nKino bez barier to projekt specjaln
 ie przygotowany dla osób ze szczególnymi potrzebami\, w tym osób z niep
 ełnosprawnościami. To unikalna inicjatywa\, która łączy świat filmu 
 i dostępności\, promując przy tym równość w dostępie do kultury fil
 mowej. Więcej informacji\, w tym repertuar w załącznikach.\n\nUlotka Ki
 na bez barier na marzec\nProgram Przeglądu filmowego kina dostępnego\n\n
ATTACH;FMTTYPE=image/jpeg:https://powiat.poznan.pl/wp-content/uploads/2025
 /02/kino-bez-barier-post-na-fb.jpg
CATEGORIES:Kultura i sztuka
LOCATION:Kino Pałacowe\, Święty Marcin 80/82\, Poznań 61-809\, Poland
GEO:52.407941;16.918558
X-APPLE-STRUCTURED-LOCATION;VALUE=URI;X-ADDRESS=Święty Marcin 80/82\, Poz
 nań 61-809\, Poland;X-APPLE-RADIUS=100;X-TITLE=Kino Pałacowe:geo:52.4079
 41,16.918558
END:VEVENT
END:VCALENDAR