BEGIN:VCALENDAR
VERSION:2.0
PRODID:-//wp-events-plugin.com//7.1.7//EN
BEGIN:VEVENT
UID:9185@powiat.poznan.pl
DTSTART:20250711T110000Z
DTEND:20250711T130000Z
DTSTAMP:20250623T101015Z
URL:https://powiat.poznan.pl/events/kino-dla-dzieci-12/
SUMMARY:Kino dla dzieci
DESCRIPTION:„Lilo i Stich” to szalenie zabawna i wzruszająca adaptacja
  klasycznego filmu Disneya z 2002 roku\, opowiadająca o samotnej dziewczy
 nce z Hawajów oraz zbiegłym kosmicie\, który pomaga jej naprawić skomp
 likowane relacje rodzinne. Niezwykła więź\, która połączy Lilo i Sti
 cha pozwoli im zrozumieć\, czym jest prawdziwa przyjaźń oraz to\, że n
 ajbardziej w życiu liczą się najbliżsi\, którzy nigdy nie zostawią n
 as w potrzebie.\n\n
ATTACH;FMTTYPE=image/jpeg:https://powiat.poznan.pl/wp-content/uploads/2025
 /06/t8.jpg
CATEGORIES:Dla dzieci,Rozrywka,Społeczne
LOCATION:Centrum Kultury Przeźmierowo\, ul. Ogrodowa 13a\, Przeźmierowo\,
  Poland
GEO:52.43219800000001;16.776851899999997
X-APPLE-STRUCTURED-LOCATION;VALUE=URI;X-ADDRESS=ul. Ogrodowa 13a\, Przeźmi
 erowo\, Poland;X-APPLE-RADIUS=100;X-TITLE=Centrum Kultury Przeźmierowo:ge
 o:52.43219800000001,16.776851899999997
END:VEVENT
END:VCALENDAR