BEGIN:VCALENDAR
VERSION:2.0
PRODID:-//wp-events-plugin.com//7.1.7//EN
BEGIN:VEVENT
UID:9164@powiat.poznan.pl
DTSTART:20250829T193000Z
DTEND:20250829T213000Z
DTSTAMP:20250623T080753Z
URL:https://powiat.poznan.pl/events/kino-letnie-w-skrzynkach-11/
SUMMARY:Kino letnie w Skrzynkach
DESCRIPTION:Po ubiegłorocznym przeglądzie kultowych polskich komedii\, kt
 óre rozbawiły niejedno pokolenie\, Instytut Skrzynki zaprasza na kolejn
 ą edycję letniego kina plenerowego. W tegoroczne piątkowe wieczory 2025
  roku zabierzemy Państwa w fascynującą podróż po kulinarnych zakątka
 ch świata\, serwując wyborną mieszankę komedii\, których wspólnym sk
 ładnikiem jest pasja do gotowania i radość życia!W naszym „menu” f
 ilmowym znajdą się takie przysmaki jak pełne włoskiego temperamentu 
 „Życie od kuchni”\, inspirująca opowieść o poszukiwaniu smaku życ
 ia w „Jedz\, módl się\, kochaj”\, historia kulinarnych rywali w egzo
 tycznej scenerii „Podróży na sto stóp”\, zabawne perypetie ambitneg
 o „Szefa”\, nietypowe spojrzenie na świat gastronomii w filmie „Ugo
 towany”\, rozczulająca komedia o sile smaku „Niebo w gębie”\, peł
 na męskiego humoru opowieść o przyjaźni „Faceci od kuchni”\, muzyc
 zna i smakowita „Soul kitchen”\, romantyczna „Przepis na miłość
 ”\, a dla miłośników słodkości – magiczna „Charlie i fabryka cz
 ekolady”.\n\nPodobnie jak w ubiegłym roku\, seanse odbędą się w urok
 liwym otoczeniu Dworu Skrzynki. Rozsiadając się wygodnie w leżakach\, p
 od rozgwieżdżonym niebem\, z ulubionym napojem w dłoni\, będziecie mog
 li Państwo w pełni delektować się letnią\, piątkową atmosferą. To 
 idealna okazja\, by w gronie rodziny i przyjaciół przeżyć niezapomnian
 e filmowe wieczory\, pełne śmiechu i apetycznych wrażeń.\nBieżące in
 formacje o terminach projekcji poszczególnych filmów z Letniego Kina Kul
 inarnego 2025 będą publikowane na stronach: www.dworskrzynki.pl oraz www
 .instytutskrzynki.pl.\n\n• 27.06.2025 20.30 „ŻYCIE OD KUCHNI” w re
 żyserii Scot’a Hicks’a\nTo amerykańska komedia romantyczna opowiadaj
 ąca o tym jak życie szefowej kuchni w popularnej restauracji zmienia si
 ę radykalnie\, gdy zostaje prawnym opiekunem swojej siostrzenicy.\n\n• 
 04.07.2025 20.30 „JEDZ\, MÓDL SIĘ\, KOCHAJ”\nAmerykański film drama
 tyczny z 2010 roku\, wyreżyserowany przez Ryana Murphy’ego\, będący a
 daptacją autobiograficznej książki pod tym samym tytułem autorstwa Eli
 zabeth Gilbert i niezapomnianą Julia Roberts w roli głównej.\n\n• 11.
 07.2025 20.30 „PODRÓŻ NA STO STÓP” w reżyserii Lasse Hallström’
 a\nPiękna opowieść o tym\, że kuchnia łagodzi obyczaje i potrafi poł
 ączyć subtelność kuchni francuskiej z wyrazistością kuchni indyjskie
 j. Smakowicie romantyczna historia!\n\n• 18.07.2025 20.30 „SZEF” w r
 eżyserii Jon Favreau\nLekkostrawna i przyjemna opowieść o odnajdywaniu 
 samego siebie. No i oczywiście o przyjemności płynącej z gotowania!\n\
 n• 25.07.2025 20.30 „UGOTOWANY”\nTo amerykańsko-angielski komediodr
 amat z 2015 w reżyserii Johna Wellsa i gwiazdorską obsadą Zagrali w nim
  między innymi Bradley Cooper\, Sienna Miller\, Alicia Vikander i Daniel 
 Brühl. To opowieść o trudnym powrocie na kulinarny szczyt.\n\n• 01.08
 .2025 20.30 „NIEBO W GĘBIE” w reżyserii Christiana Vincenta\nFilm in
 spirowany prawdziwą\, niezwykłą historią prezydenta Francji François 
 Mitteranda i jego szefa kuchni w spódnicy.\n\n• 08.08.2025 20.30 „FAC
 ECI OD KUCHNI”\nFrancusko-hiszpańska komedia z 2012 w reżyserii Daniel
 a Cohena opowiada Jacky\, który ma w życiu dwie miłości. Pierwszą jes
 t jego ciężarna partnerka\, której jednak boi się oświadczyć. Drugą
  – wyrafinowana kuchnia…\n\n• 15.08.2025 20.30 „SOUL KITCHEN”\nT
 o niemiecki film komediowy z 2009 w reżyserii Fatiha Akina opowiadający 
 o tym dlaczego czasami warto jest zaufać pracownikom gdy w firmie wszystk
 o idzie źle.\n\n• 22.08.2025 20.30 „PRZEPIS NA MIŁOŚĆ”\nFrancusk
 o-belgijska komedia romantyczna z 2010 roku w reżyserii Jean-Pierre’a A
 mérisa opowiada o tym jak chorobliwa nieśmiałość może uzdrowić… c
 zekolada.\n\n• 29.08.2025 20:30 „CHARLIE I FABRYKA CZEKOLADY”\nDzie
 ło często współpracującego ze sobą tria: Tim Burton (reżyser)\, Joh
 nny Depp (aktor) oraz Danny Elfman (autor muzyki). Smakowita i piękna opo
 wieść.\n\n\n\n\n\n\n
ATTACH;FMTTYPE=image/jpeg:https://powiat.poznan.pl/wp-content/uploads/2025
 /06/kino.jpg
CATEGORIES:Kultura i sztuka,Rozrywka
LOCATION:Dwór Skrzynki\, Plac Parkowy 1\, Skrzynki\, gm. Stęszew\, 62-060
 \, Poland
GEO:52.342096;16.606405
X-APPLE-STRUCTURED-LOCATION;VALUE=URI;X-ADDRESS=Plac Parkowy 1\, Skrzynki\,
  gm. Stęszew\, 62-060\, Poland;X-APPLE-RADIUS=100;X-TITLE=Dwór Skrzynki:
 geo:52.342096,16.606405
END:VEVENT
END:VCALENDAR