BEGIN:VCALENDAR
VERSION:2.0
PRODID:-//wp-events-plugin.com//7.1.7//EN
BEGIN:VEVENT
UID:9237@powiat.poznan.pl
DTSTART:20250719T200000Z
DTEND:20250719T220000Z
DTSTAMP:20250708T120145Z
URL:https://powiat.poznan.pl/events/kino-plenerowe-w-rokietnicy-3/
SUMMARY:Kino plenerowe w Rokietnicy
DESCRIPTION:Kino plenerowe w Rokietnicy\n\n
ATTACH;FMTTYPE=image/jpeg:https://powiat.poznan.pl/wp-content/uploads/2025
 /06/r2.jpg
CATEGORIES:Dla dzieci,Kultura i sztuka,Rozrywka
LOCATION:Polana Rumpuciowa Rokietnica\, Polana Rumpuciowa Rokietnica\, Roki
 etnica\, wielkopolskie\, Poland
GEO:52.506415;16.739053
X-APPLE-STRUCTURED-LOCATION;VALUE=URI;X-ADDRESS=Polana Rumpuciowa Rokietnic
 a\, Rokietnica\, wielkopolskie\, Poland;X-APPLE-RADIUS=100;X-TITLE=Polana 
 Rumpuciowa Rokietnica:geo:52.506415,16.739053
END:VEVENT
END:VCALENDAR