BEGIN:VCALENDAR
VERSION:2.0
PRODID:-//wp-events-plugin.com//7.1.7//EN
BEGIN:VEVENT
UID:9184@powiat.poznan.pl
DTSTART:20250711T180000Z
DTEND:20250711T200000Z
DTSTAMP:20250623T100756Z
URL:https://powiat.poznan.pl/events/kino-sezamu-2/
SUMMARY:Kino Sezamu
DESCRIPTION:Leo jest tajemniczym\, odnoszącym sukcesy pisarzem\, publikuj
 ącym powieści pod pseudonimem Cameron Graves. Pewnego dnia odwiedza go c
 złowiek podający się za dziennikarza. Tożsamość Leo zna jednak wył
 ącznie jego agentka\, Victoria\, co wzbudza nieufność artysty. Nieoczek
 iwana wizyta okazuje się początkiem kłamstw\, gróźb i trzymających w
  napięciu wydarzeń.\n\n
ATTACH;FMTTYPE=image/jpeg:https://powiat.poznan.pl/wp-content/uploads/2025
 /06/t7.jpg
CATEGORIES:Rozrywka,Społeczne
LOCATION:Centrum Kultury Przeźmierowo\, ul. Ogrodowa 13a\, Przeźmierowo\,
  Poland
GEO:52.43219800000001;16.776851899999997
X-APPLE-STRUCTURED-LOCATION;VALUE=URI;X-ADDRESS=ul. Ogrodowa 13a\, Przeźmi
 erowo\, Poland;X-APPLE-RADIUS=100;X-TITLE=Centrum Kultury Przeźmierowo:ge
 o:52.43219800000001,16.776851899999997
END:VEVENT
END:VCALENDAR