BEGIN:VCALENDAR
VERSION:2.0
PRODID:-//wp-events-plugin.com//7.1.7//EN
BEGIN:VEVENT
UID:2622@powiat.poznan.pl
DTSTART:20181104T170000Z
DTEND:20181104T170000Z
DTSTAMP:20181026T103543Z
URL:https://powiat.poznan.pl/events/kino-zielone-oko-41/
SUMMARY:Kino Zielone Oko
DESCRIPTION:Kino Zielone Oko: "Kamerdyner"\n\n
ATTACH;FMTTYPE=image/jpeg:https://powiat.poznan.pl/wp-content/uploads/2018
 /10/kamerdyner-mini.jpg
CATEGORIES:Kultura i sztuka,Rozrywka
LOCATION:Centrum Kultury Przeźmierowo\, ul. Ogrodowa 13a\, Przeźmierowo\,
  Poland
GEO:52.43219800000001;16.776851899999997
X-APPLE-STRUCTURED-LOCATION;VALUE=URI;X-ADDRESS=ul. Ogrodowa 13a\, Przeźmi
 erowo\, Poland;X-APPLE-RADIUS=100;X-TITLE=Centrum Kultury Przeźmierowo:ge
 o:52.43219800000001,16.776851899999997
END:VEVENT
END:VCALENDAR