BEGIN:VCALENDAR
VERSION:2.0
PRODID:-//wp-events-plugin.com//7.1.7//EN
BEGIN:VEVENT
UID:9211@powiat.poznan.pl
DTSTART:20250711T203000Z
DTEND:20250711T220000Z
DTSTAMP:20250623T122038Z
URL:https://powiat.poznan.pl/events/klasyka-w-plenerze-4/
SUMMARY:Klasyka w plenerze
DESCRIPTION:W ramach trzeciej edycji Festiwalu IVENTI– wydarzenia\, któr
 e staje się coraz ważniejszym punktem na kulturalnej mapie Wielkopolski 
 – zapraszamy Państwa na wyjątkowy koncert\, który odbędzie się 11 l
 ipca\, godz. 21:30 przed murami kościoła św. Mikołaja w Mosinie.\n\n
ATTACH;FMTTYPE=image/jpeg:https://powiat.poznan.pl/wp-content/uploads/2025
 /06/m3.jpg
CATEGORIES:Kultura i sztuka,Rozrywka,Społeczne
LOCATION:Mosina\, Mosina\, Mosina\, Poland
GEO:52.24540690000001;16.847054500000013
X-APPLE-STRUCTURED-LOCATION;VALUE=URI;X-ADDRESS=Mosina\, Mosina\, Poland;X-
 APPLE-RADIUS=100;X-TITLE=Mosina:geo:52.24540690000001,16.847054500000013
END:VEVENT
END:VCALENDAR